BEGIN:VCALENDAR
VERSION:2.0
PRODID:-//Masterworks Bermuda - ECPv6.15.19//NONSGML v1.0//EN
CALSCALE:GREGORIAN
METHOD:PUBLISH
X-WR-CALNAME:Masterworks Bermuda
X-ORIGINAL-URL:https://masterworksbermuda.org
X-WR-CALDESC:Events for Masterworks Bermuda
REFRESH-INTERVAL;VALUE=DURATION:PT1H
X-Robots-Tag:noindex
X-PUBLISHED-TTL:PT1H
BEGIN:VTIMEZONE
TZID:Atlantic/Bermuda
BEGIN:DAYLIGHT
TZOFFSETFROM:-0400
TZOFFSETTO:-0300
TZNAME:ADT
DTSTART:20220313T060000
END:DAYLIGHT
BEGIN:STANDARD
TZOFFSETFROM:-0300
TZOFFSETTO:-0400
TZNAME:AST
DTSTART:20221106T050000
END:STANDARD
BEGIN:DAYLIGHT
TZOFFSETFROM:-0400
TZOFFSETTO:-0300
TZNAME:ADT
DTSTART:20230312T060000
END:DAYLIGHT
BEGIN:STANDARD
TZOFFSETFROM:-0300
TZOFFSETTO:-0400
TZNAME:AST
DTSTART:20231105T050000
END:STANDARD
BEGIN:DAYLIGHT
TZOFFSETFROM:-0400
TZOFFSETTO:-0300
TZNAME:ADT
DTSTART:20240310T060000
END:DAYLIGHT
BEGIN:STANDARD
TZOFFSETFROM:-0300
TZOFFSETTO:-0400
TZNAME:AST
DTSTART:20241103T050000
END:STANDARD
END:VTIMEZONE
BEGIN:VEVENT
DTSTART;TZID=Atlantic/Bermuda:20231222T170000
DTEND;TZID=Atlantic/Bermuda:20231222T200000
DTSTAMP:20260420T001441
CREATED:20231130T141201Z
LAST-MODIFIED:20231219T141632Z
UID:10000028-1703264400-1703275200@masterworksbermuda.org
SUMMARY:FINDERS KEEPERS | Guardian Jug Release Party
DESCRIPTION:The hunt continues! FINDERS KEEPERS is back. Join us Friday\, December 22\, 2023 with Jon Legere for the Guardian Jug Release! Be sure to follow our social media posts for more.
URL:https://masterworksbermuda.org/event/finders-keepers-with-jon-legere/
LOCATION:The Rose Garden\, inside the Botanical Gardens\, 183 South Road\, Paget\, DV04\, Bermuda
CATEGORIES:Events
ATTACH;FMTTYPE=image/png:https://masterworksbermuda.org/wp-content/uploads/2023/08/jl.png
ORGANIZER;CN="Masterworks Museum":MAILTO:marketing@masterworksbermuda.org
END:VEVENT
END:VCALENDAR