BEGIN:VCALENDAR
VERSION:2.0
PRODID:-//Masterworks Bermuda - ECPv6.15.19//NONSGML v1.0//EN
CALSCALE:GREGORIAN
METHOD:PUBLISH
X-WR-CALNAME:Masterworks Bermuda
X-ORIGINAL-URL:https://masterworksbermuda.org
X-WR-CALDESC:Events for Masterworks Bermuda
REFRESH-INTERVAL;VALUE=DURATION:PT1H
X-Robots-Tag:noindex
X-PUBLISHED-TTL:PT1H
BEGIN:VTIMEZONE
TZID:Atlantic/Bermuda
BEGIN:DAYLIGHT
TZOFFSETFROM:-0400
TZOFFSETTO:-0300
TZNAME:ADT
DTSTART:20230312T060000
END:DAYLIGHT
BEGIN:STANDARD
TZOFFSETFROM:-0300
TZOFFSETTO:-0400
TZNAME:AST
DTSTART:20231105T050000
END:STANDARD
BEGIN:DAYLIGHT
TZOFFSETFROM:-0400
TZOFFSETTO:-0300
TZNAME:ADT
DTSTART:20240310T060000
END:DAYLIGHT
BEGIN:STANDARD
TZOFFSETFROM:-0300
TZOFFSETTO:-0400
TZNAME:AST
DTSTART:20241103T050000
END:STANDARD
BEGIN:DAYLIGHT
TZOFFSETFROM:-0400
TZOFFSETTO:-0300
TZNAME:ADT
DTSTART:20250309T060000
END:DAYLIGHT
BEGIN:STANDARD
TZOFFSETFROM:-0300
TZOFFSETTO:-0400
TZNAME:AST
DTSTART:20251102T050000
END:STANDARD
BEGIN:DAYLIGHT
TZOFFSETFROM:-0400
TZOFFSETTO:-0300
TZNAME:ADT
DTSTART:20260308T060000
END:DAYLIGHT
BEGIN:STANDARD
TZOFFSETFROM:-0300
TZOFFSETTO:-0400
TZNAME:AST
DTSTART:20261101T050000
END:STANDARD
END:VTIMEZONE
BEGIN:VEVENT
DTSTART;TZID=Atlantic/Bermuda:20251022T180000
DTEND;TZID=Atlantic/Bermuda:20251022T193000
DTSTAMP:20260419T153334
CREATED:20250916T201938Z
LAST-MODIFIED:20250930T140948Z
UID:10000329-1761156000-1761161400@masterworksbermuda.org
SUMMARY:Meet Us in the Onion Patch: Artist Talk with Jahbarri Wilson
DESCRIPTION:Join us on Wednesday\, October 22 from 6 – 7:30pm in the Marée Lounge of the Loren Hotel for an artist talk with Jahbarri Wilson\, on the occasion of his solo exhibition\, Meet Us in the Onion Patch.  \nAbout the Artist:\nJahbarri A. Wilson is a self-taught Bermudian artist whose style is shaped by a perpetual ‘tug-of-war’ between the conscious and subconscious. His mixed media work spans painting\, drawing\, sculpture and fashion. Wilson’s practice blends abstraction with loose figuration\, creating works that feel both intentional and spontaneous. His practice is driven by curiosity—about Bermudian history\, global cultures\, and the expressive possibilities of painting. His first solo exhibition opened at the Masterworks Museum of Bermuda Art in October 2022; in 2021 he launched a range of limited-edition sweaters accompanied with original artworks. He has also exhibited in the 2021 Fall Members Show at the Bermuda Society of Art\, where his piece Corporate Dilemma won first place\, and in the 441 group show at Masterworks Museum (2020) alongside Je-Shae Pace\, De’Javon Paynter and Toni Tona. As part of the 2024 Bermuda Tourism Authority’s Art Month\, Jahbarri completed the work Star’erfolk as a live painting on the grounds of City Hall. \nWilson spent several years in Los Angeles working for Bermudian designer Khamari Greaves and now teaches art at Kaleidoscope Arts Foundation. \nAbout the Exhibition:\nIn collaboration with The Loren Hotel\, we are kicking off the Bermuda Tourism Authority’s Art Month with the opening of Meet Us in the Onion Patch\, an exhibition by Jahbarri Wilson. The exhibition will be on display in the Marée Lounge of the Loren Hotel from Tuesday\, October 1 until Thursday\, October 31. The public is invited to join for an opening reception on Sunday\, October 5\, from 6 – 8pm. \nIn 2024\, Wilson received a Bermuda Arts Council grant for an artist residency in Peru. There\, he explored local traditions\, learning to source and process natural pigments as well as foraging clay. This experience reflects his broader approach: drawing inspiration from his travels\, building cultural connections\, and highlighting the shared threads of human experience. Wilson views creation as a form of play—mental\, physical\, emotional\, and spiritual—that allows him to explore the essence of Bermuda and its people. Meet Us In The Onion Patch — a  symbol that has dual and at times conflicting meanings for Bermudians — captures the dualities running throughout Wilson’s work: personal versus communal; physical versus spiritual; playful versus reflective; deliberate versus spontaneous.
URL:https://masterworksbermuda.org/event/artist-talk-jahbarri-wilson/
LOCATION:The Loren at Pink Beach\, 116 South Rd\, Tucker's Town\, HS 01\, Bermuda
CATEGORIES:Events
ATTACH;FMTTYPE=image/png:https://masterworksbermuda.org/wp-content/uploads/2025/09/Artist-Talk.png
ORGANIZER;CN="Masterworks Museum":MAILTO:marketing@masterworksbermuda.org
END:VEVENT
BEGIN:VEVENT
DTSTART;TZID=Atlantic/Bermuda:20250309T170000
DTEND;TZID=Atlantic/Bermuda:20250309T190000
DTSTAMP:20260419T153334
CREATED:20250207T162403Z
LAST-MODIFIED:20250313T151142Z
UID:10000283-1741539600-1741546800@masterworksbermuda.org
SUMMARY:"Noise Maker" Exhibition at The Loren Hotel
DESCRIPTION:Noise Maker by Abi Box | February 27 – April 27\, 2025\nOn View in the Marée Lounge at The Loren Hotel \nOpening Reception: Sunday\, March 8 | 5pm – 7pm in the Marée Lounge at The Loren Hotel \nIn collaboration with The Loren Hotel\, Masterworks is thrilled to partner with artist Abi Box for her upcoming exhibition entitled Noise Maker which will be on display in the Marée Lounge at The Loren Hotel. \nArtist Statement: \nThe direction my work has taken in recent years is born partly out of the slapdashery that comes with having added a second child to our family. Paintings derived from fast and erratic drawings that have been thrown together in stolen moments; drawn in whatever is close to hand\, Biros\, pencils\, markers\, felt-tips\, crayons. Structured with little intention\, compositionally they have been worked out through trial and error. Working with masking tape and correction fluid\, off-white clumsy daubs\, obviously\, once mistakes and tatty edges have become part of the poetry; drawing attention to the unintentional. \n  \n\nThese nothing-is-ever-ruined-keep-going-with-it drawings have emboldened my approach to my sometimes and otherwise ‘stuck’ paintings. Emboldened to uncompromisingly obliterate any unsightly or not-working areas with colourful washes or opaque layers of white. Colourful washes are interestingly unpredictable in the way they interact with the layers below. Filtering out some hues and not others\, the odd shape from below can unintentionally and joyfully interrupt the newly worked composition above. Or more drastically\, wiping out areas with a thicker and more opaque layer of white. These almost re-primed areas are prominent in their reflectiveness and seldom conceal; subsequent colours are chromatically here-I-am vivid. Texturally\, whether they’re rough and chalky or smooth and glossy\, these whited out areas clash with the otherwise thin washes or any parts of the canvas that have remained reasonably raw. \nThese interactions\, both intentional and unintentional\, have driven this whole body of work\, in some capacity\, towards texture. Visibly layered surfaces\, thin translucent washes covered with rough and opaque\, or heavily saturated\, brushwork. In the way that the dry brushwork catches the weave of the canvas\, like worn tapestries the paintings have a patchy and threadbare quality to them. While simultaneous contrasts create sense of depth; glowing opaque pastels pinging against dull atmospheric translucency. \n  \nOnline Sales: \n\nExhibition works will be available for purchase on rickfariesgallery.com for the duration of the show. Please contact Max Grainge\, Gallery Exhibitions Coordinator\, with any inquiries at 299-4007 or email max@masterworksbermuda.org. \n  \n\nArtist Contact: \nWebsite: abi-box.com\nEmail: box@abi-box.com\nInstagram: @abi_box
URL:https://masterworksbermuda.org/event/noise-maker-exhibition-opening-at-the-loren-hotel/
LOCATION:The Loren at Pink Beach\, 116 South Rd\, Tucker's Town\, HS 01\, Bermuda
CATEGORIES:Events,Exhibitions
ATTACH;FMTTYPE=image/png:https://masterworksbermuda.org/wp-content/uploads/2025/02/Website-Post-Image.png
ORGANIZER;CN="Masterworks Museum":MAILTO:marketing@masterworksbermuda.org
END:VEVENT
BEGIN:VEVENT
DTSTART;TZID=Atlantic/Bermuda:20240224T183000
DTEND;TZID=Atlantic/Bermuda:20240224T220000
DTSTAMP:20260419T153334
CREATED:20240129T202929Z
LAST-MODIFIED:20240201T152921Z
UID:10000141-1708799400-1708812000@masterworksbermuda.org
SUMMARY:"Joyful Rebellion\," Nhuri Bashir Exhibition Opening at The Loren
DESCRIPTION:Joyful Rebellion\, an exhibition by artist Nhuri Bashir\, will be displayed at The Loren in collaboration with Masterworks Museum. The opening reception will be on Saturday\, February 24\, from 6:30 – 10 pm. \nJoyful Rebellion will be on view inside the Marée Lounge at The Loren until Sunday\, March 24. All works are for sale.
URL:https://masterworksbermuda.org/event/joyful-rebellion-nhuri-bashir-feb-24/
LOCATION:The Loren at Pink Beach\, 116 South Rd\, Tucker's Town\, HS 01\, Bermuda
CATEGORIES:Events
ATTACH;FMTTYPE=image/jpeg:https://masterworksbermuda.org/wp-content/uploads/2024/01/IMG_0422-website.jpg
ORGANIZER;CN="Masterworks Museum":MAILTO:marketing@masterworksbermuda.org
END:VEVENT
END:VCALENDAR