BEGIN:VCALENDAR
VERSION:2.0
PRODID:-//Masterworks Bermuda - ECPv6.15.19//NONSGML v1.0//EN
CALSCALE:GREGORIAN
METHOD:PUBLISH
X-ORIGINAL-URL:https://masterworksbermuda.org
X-WR-CALDESC:Events for Masterworks Bermuda
REFRESH-INTERVAL;VALUE=DURATION:PT1H
X-Robots-Tag:noindex
X-PUBLISHED-TTL:PT1H
BEGIN:VTIMEZONE
TZID:Atlantic/Bermuda
BEGIN:DAYLIGHT
TZOFFSETFROM:-0400
TZOFFSETTO:-0300
TZNAME:ADT
DTSTART:20250309T060000
END:DAYLIGHT
BEGIN:STANDARD
TZOFFSETFROM:-0300
TZOFFSETTO:-0400
TZNAME:AST
DTSTART:20251102T050000
END:STANDARD
BEGIN:DAYLIGHT
TZOFFSETFROM:-0400
TZOFFSETTO:-0300
TZNAME:ADT
DTSTART:20260308T060000
END:DAYLIGHT
BEGIN:STANDARD
TZOFFSETFROM:-0300
TZOFFSETTO:-0400
TZNAME:AST
DTSTART:20261101T050000
END:STANDARD
BEGIN:DAYLIGHT
TZOFFSETFROM:-0400
TZOFFSETTO:-0300
TZNAME:ADT
DTSTART:20270314T060000
END:DAYLIGHT
BEGIN:STANDARD
TZOFFSETFROM:-0300
TZOFFSETTO:-0400
TZNAME:AST
DTSTART:20271107T050000
END:STANDARD
END:VTIMEZONE
BEGIN:VEVENT
DTSTART;TZID=Atlantic/Bermuda:20260613T100000
DTEND;TZID=Atlantic/Bermuda:20260613T120000
DTSTAMP:20260419T093456
CREATED:20260218T164158Z
LAST-MODIFIED:20260218T164158Z
UID:10000401-1781344800-1781352000@masterworksbermuda.org
SUMMARY:Family Workshop: Photo Embroidery with Teresa Ruiz
DESCRIPTION:Join us in the Visions of the Vernacular workshop space with artist Teresa Ruiz for an immersive workshop where you will learn to bring your photographs to life by hand-stitching directly into them. \nParticipants are encouraged to bring a personal photograph; a meaningful place\, building or landscape\, and learn how to reanimate it using vibrant threads and unique embroidery patterns. Teresa will guide you through the delicate technique of piercing the photo and introduce you to basic and creative stitching methods. \nWhether you are an experienced artist or a curious beginner\, this class offers a meditative and innovative way to reclaim your images. By the end of the workshop\, you will take home a one-of-a-kind piece of art and the skills to continue exploring this captivating medium. \nFacilitator: Teresa Ruiz \nRuiz is a Spanish visual artist based in Bermuda whose practice redefines analogue photography through the lens of fibre art. Using 35mm film as her canvas\, she intervenes in the image with hand-stitched embroidery\, transforming static captures into tactile\, vibrant narratives. \nDate: Saturday\, June 13\, 2026 \nTime: 10:00am – 12:00pm \nClass Size: Maximum of 10 participants to ensure individualized attention and a supportive environment \nAge groups: All ages welcome; Children under 12 should be accompanied by an adult \nSkill Level: All levels welcome \nLocation: Mezzanine Gallery @ Masterworks Museum of Bermuda Art \nWorkshop Fee: $75 Members/$125 Non-members; under 18 bursary application here. \nMaterials: All supplies provided. \nImportant reminder: A cancellation must be made 14 days before the registration program start date to receive a refund.  No refund will be given within 14 days of the program date.
URL:https://masterworksbermuda.org/event/family-workshop-photo-embroidery/
LOCATION:Mezzanine Gallery
CATEGORIES:Adult,Adult Workshops,Classes,Kids/Family Workshops,Teen,Workshops
ATTACH;FMTTYPE=image/jpeg:https://masterworksbermuda.org/wp-content/uploads/2026/02/Website-Post-Image-66.jpg
ORGANIZER;CN="Masterworks Education":MAILTO:kimberley@masterworksbermuda.org
END:VEVENT
END:VCALENDAR