BEGIN:VCALENDAR
VERSION:2.0
PRODID:-//Masterworks Bermuda - ECPv6.15.19//NONSGML v1.0//EN
CALSCALE:GREGORIAN
METHOD:PUBLISH
X-WR-CALNAME:Masterworks Bermuda
X-ORIGINAL-URL:https://masterworksbermuda.org
X-WR-CALDESC:Events for Masterworks Bermuda
REFRESH-INTERVAL;VALUE=DURATION:PT1H
X-Robots-Tag:noindex
X-PUBLISHED-TTL:PT1H
BEGIN:VTIMEZONE
TZID:Atlantic/Bermuda
BEGIN:DAYLIGHT
TZOFFSETFROM:-0400
TZOFFSETTO:-0300
TZNAME:ADT
DTSTART:20230312T060000
END:DAYLIGHT
BEGIN:STANDARD
TZOFFSETFROM:-0300
TZOFFSETTO:-0400
TZNAME:AST
DTSTART:20231105T050000
END:STANDARD
BEGIN:DAYLIGHT
TZOFFSETFROM:-0400
TZOFFSETTO:-0300
TZNAME:ADT
DTSTART:20240310T060000
END:DAYLIGHT
BEGIN:STANDARD
TZOFFSETFROM:-0300
TZOFFSETTO:-0400
TZNAME:AST
DTSTART:20241103T050000
END:STANDARD
BEGIN:DAYLIGHT
TZOFFSETFROM:-0400
TZOFFSETTO:-0300
TZNAME:ADT
DTSTART:20250309T060000
END:DAYLIGHT
BEGIN:STANDARD
TZOFFSETFROM:-0300
TZOFFSETTO:-0400
TZNAME:AST
DTSTART:20251102T050000
END:STANDARD
END:VTIMEZONE
BEGIN:VEVENT
DTSTART;TZID=Atlantic/Bermuda:20240425T173000
DTEND;TZID=Atlantic/Bermuda:20240425T200000
DTSTAMP:20260420T005417
CREATED:20240117T150804Z
LAST-MODIFIED:20240402T144052Z
UID:10000135-1714066200-1714075200@masterworksbermuda.org
SUMMARY:Ins and Outs of Framing
DESCRIPTION:BEHIND THE PALETTE:\nGet ready for an informative and fun evening of hands-on learning the ins and outs of framing! Held in the workshop at Frameworks @ ESC\, you will walk away understanding the multitude of options to finish\, protect and preserve your artwork. \nLoris Toppan will discuss printing and stretching canvas\, and Paige Eversley will lead us through: \n\nMaterials used in framing and how to choose them\nStandard sizing\nFinishing options\nFraming for an art show\nConservation considerations in Bermuda’s climate\nRefurbishing used frames\n\nWhen: Thursday\, April 25\, 2024\, 5:30pm – 8:00pm \nWhere: Frameworks @ ESC\, 4 Mill Creek Rd\, HM 02
URL:https://masterworksbermuda.org/event/btp-framing/
LOCATION:Masterworks Museum of Bermuda Art\, 183 South Road\, Paget\, DV04\, Bermuda
CATEGORIES:Adult,Adult Workshops,Artist Skill-Share,Classes,Workshops
ATTACH;FMTTYPE=image/png:https://masterworksbermuda.org/wp-content/uploads/2024/01/Website-Post-Image-24.png
ORGANIZER;CN="Masterworks Education":MAILTO:kimberley@masterworksbermuda.org
END:VEVENT
END:VCALENDAR